BEGIN:VCALENDAR
VERSION:2.0
PRODID:-//Top End Mental Health Consumers Organisation - ECPv5.3.2//NONSGML v1.0//EN
CALSCALE:GREGORIAN
METHOD:PUBLISH
X-WR-CALNAME:Top End Mental Health Consumers Organisation
X-ORIGINAL-URL:https://www.temhco.com.au
X-WR-CALDESC:Events for Top End Mental Health Consumers Organisation
BEGIN:VTIMEZONE
TZID:Australia/Darwin
BEGIN:STANDARD
TZOFFSETFROM:+0930
TZOFFSETTO:+0930
TZNAME:ACST
DTSTART:20210101T000000
END:STANDARD
END:VTIMEZONE
BEGIN:VEVENT
DTSTART;TZID=Australia/Darwin:20210211T093000
DTEND;TZID=Australia/Darwin:20210211T113000
DTSTAMP:20210227T031003
CREATED:20210128T035659Z
LAST-MODIFIED:20210224T081442Z
UID:8292-1613035800-1613043000@www.temhco.com.au
SUMMARY:Leatherwork Classes with Marc
DESCRIPTION:Every 2nd and 4th Thursday of the month – 9:30 am to 11:30 am.
URL:https://www.temhco.com.au/event/leatherwork-classes-with-marc/2021-02-11/
ATTACH;FMTTYPE=image/png:https://www.temhco.com.au/wp-content/uploads/2021/01/Yarranab-logo.png
END:VEVENT
BEGIN:VEVENT
DTSTART;TZID=Australia/Darwin:20210212T093000
DTEND;TZID=Australia/Darwin:20210212T113000
DTSTAMP:20210227T031003
CREATED:20201201T105540Z
LAST-MODIFIED:20210224T081318Z
UID:8043-1613122200-1613129400@www.temhco.com.au
SUMMARY:Music Sessions with Sean
DESCRIPTION:Every 2nd and 4th Friday of the month
URL:https://www.temhco.com.au/event/music-sessions-with-sean/2021-02-12/
ATTACH;FMTTYPE=image/jpeg:https://www.temhco.com.au/wp-content/uploads/2020/12/Sean.jpg
END:VEVENT
BEGIN:VEVENT
DTSTART;TZID=Australia/Darwin:20210217T123000
DTEND;TZID=Australia/Darwin:20210217T143000
DTSTAMP:20210227T031003
CREATED:20210128T042608Z
LAST-MODIFIED:20210224T081628Z
UID:8300-1613565000-1613572200@www.temhco.com.au
SUMMARY:Grow Mental Wellbeing Activity Workshop
DESCRIPTION:Commencing Wednesday 17th February every Wednesday 12:30 pm to 2:30 pm and follows the Monday learning classes held at the same time.
URL:https://www.temhco.com.au/event/grow-mental-wellbeing-activity-workshop/2021-02-17/
ATTACH;FMTTYPE=image/jpeg:https://www.temhco.com.au/wp-content/uploads/2021/01/GROW-logo.jpg
END:VEVENT
BEGIN:VEVENT
DTSTART;TZID=Australia/Darwin:20210224T123000
DTEND;TZID=Australia/Darwin:20210224T143000
DTSTAMP:20210227T031003
CREATED:20210128T042608Z
LAST-MODIFIED:20210224T081629Z
UID:8302-1614169800-1614177000@www.temhco.com.au
SUMMARY:Grow Mental Wellbeing Activity Workshop
DESCRIPTION:Commencing Wednesday 17th February every Wednesday 12:30 pm to 2:30 pm and follows the Monday learning classes held at the same time.
URL:https://www.temhco.com.au/event/grow-mental-wellbeing-activity-workshop/2021-02-24/
ATTACH;FMTTYPE=image/jpeg:https://www.temhco.com.au/wp-content/uploads/2021/01/GROW-logo.jpg
END:VEVENT
BEGIN:VEVENT
DTSTART;TZID=Australia/Darwin:20210225T093000
DTEND;TZID=Australia/Darwin:20210225T113000
DTSTAMP:20210227T031003
CREATED:20210128T035659Z
LAST-MODIFIED:20210224T081442Z
UID:8295-1614245400-1614252600@www.temhco.com.au
SUMMARY:Leatherwork Classes with Marc
DESCRIPTION:Every 2nd and 4th Thursday of the month – 9:30 am to 11:30 am.
URL:https://www.temhco.com.au/event/leatherwork-classes-with-marc/2021-02-25/
ATTACH;FMTTYPE=image/png:https://www.temhco.com.au/wp-content/uploads/2021/01/Yarranab-logo.png
END:VEVENT
BEGIN:VEVENT
DTSTART;TZID=Australia/Darwin:20210225T100000
DTEND;TZID=Australia/Darwin:20210225T120000
DTSTAMP:20210227T031003
CREATED:20200802T075823Z
LAST-MODIFIED:20210224T083235Z
UID:6500-1614247200-1614254400@www.temhco.com.au
SUMMARY:Men's Grooming Session with Rose
DESCRIPTION:Every 2nd and 4th Thursday of the month from 10:00 am to 12:00 pm.
URL:https://www.temhco.com.au/event/mens-grooming-session-with-rose/2021-02-25/
ATTACH;FMTTYPE=image/jpeg:https://www.temhco.com.au/wp-content/uploads/2020/02/Hair-Cut-Pic.jpg
END:VEVENT
BEGIN:VEVENT
DTSTART;TZID=Australia/Darwin:20210226T093000
DTEND;TZID=Australia/Darwin:20210226T113000
DTSTAMP:20210227T031003
CREATED:20201201T105540Z
LAST-MODIFIED:20210224T081318Z
UID:8323-1614331800-1614339000@www.temhco.com.au
SUMMARY:Music Sessions with Sean
DESCRIPTION:Every 2nd and 4th Friday of the month
URL:https://www.temhco.com.au/event/music-sessions-with-sean/2021-02-26/
ATTACH;FMTTYPE=image/jpeg:https://www.temhco.com.au/wp-content/uploads/2020/12/Sean.jpg
END:VEVENT
BEGIN:VEVENT
DTSTART;TZID=Australia/Darwin:20210226T100000
DTEND;TZID=Australia/Darwin:20210226T120000
DTSTAMP:20210227T031003
CREATED:20190725T094832Z
LAST-MODIFIED:20210224T081150Z
UID:999-1614333600-1614340800@www.temhco.com.au
SUMMARY:Reflexology with Tammy
DESCRIPTION:Last Friday of the month 10:00 am to 12:00 pm
URL:https://www.temhco.com.au/event/reflexology/2021-02-26/
LOCATION:TEMHCO\, Corner Temple Terrace and Woodroffe Avenue\, Woodroffe\, Northern Territory\, 0830\, Australia
ATTACH;FMTTYPE=image/jpeg:https://www.temhco.com.au/wp-content/uploads/2020/10/119914657_338074964210407_981157947353594013_n.jpg
ORGANIZER;CN="Helen%20Day":MAILTO:temhco.exec@temhco.com.au
END:VEVENT
END:VCALENDAR